BEGIN:VCALENDAR
VERSION:2.0
PRODID:-//Parco Maremma - ECPv6.14.0//NONSGML v1.0//EN
CALSCALE:GREGORIAN
METHOD:PUBLISH
X-ORIGINAL-URL:https://parco-maremma.it
X-WR-CALDESC:Eventi per Parco Maremma
REFRESH-INTERVAL;VALUE=DURATION:PT1H
X-Robots-Tag:noindex
X-PUBLISHED-TTL:PT1H
BEGIN:VTIMEZONE
TZID:Europe/Rome
BEGIN:DAYLIGHT
TZOFFSETFROM:+0100
TZOFFSETTO:+0200
TZNAME:CEST
DTSTART:20260329T010000
END:DAYLIGHT
BEGIN:STANDARD
TZOFFSETFROM:+0200
TZOFFSETTO:+0100
TZNAME:CET
DTSTART:20261025T010000
END:STANDARD
END:VTIMEZONE
BEGIN:VEVENT
DTSTART;TZID=Europe/Rome:20260516T143000
DTEND;TZID=Europe/Rome:20260516T180000
DTSTAMP:20260423T230737
CREATED:20260421T145122Z
LAST-MODIFIED:20260421T145122Z
UID:10002373-1778941800-1778954400@parco-maremma.it
SUMMARY:Diversità degli impollinatori nel Parco della Maremma
DESCRIPTION:Appuntamento sabato 10 maggio alle ore 14.30 con la passeggiata “Diversità degli impollinatori nel Parco della Maremma“. \nNel Parco regionale della Maremma la ricerca scientifica è indispensabile per una gestione efficiente ed efficace delle risorse ambientali del territorio protetto. Il professor Carlo Polidori (Università degli Studi di Milano) e il dottor Andrea Ferrari (Libera Università di Bolzano)\, al Parco per un lavoro di monitoraggio sulle api selvatiche\, dedicano un pomeriggio agli Amici del Parco e\, per la prima volta\, a tutti coloro che vogliono saperne di più sugli insetti impollinatori\, in una interessante passeggiata divulgativa sul cammino medievale dell’area protetta (itinerario A8). Camminare\, osservare\, conoscere guidati da voci esperte: questi gli ingredienti di un imperdibile evento. \nInformazioni\nPartenza: ritrovo alle ore 14.15 al centro visite di Alberese\, via del Bersagliere 7/9\, Alberese (Grosseto). Partenza ore 14.30.\nPercorso: A8.\nDifficoltà: facile. Consigliato abbigliamento comodo.\nLunghezza: 10 km circa.\nDurata: 3 ore e mezzo circa.\nCosto: 10 €. Gratuito per gli Amici del Parco.\nInfo e prenotazioni: prenotazione obbligatoria scrivendo a booking@parco-maremma.it. \nFoto di Andrea Picchi.
URL:https://parco-maremma.it/evento/diversita-degli-impollinatori-nel-parco-della-maremma/
LOCATION:Centro Visite Alberese\, Via Bersagliere\, 7/9\, Alberese\, 58100\, Italia
CATEGORIES:Escursione
ATTACH;FMTTYPE=image/jpeg:https://parco-maremma.it/wp-content/uploads/2020/09/RID_Andrea-Picchi-andrea.picchi.ysdm@alice.it_-la-piccola-gente-del-Parco-la-farfalla-blu-copia.jpg
END:VEVENT
END:VCALENDAR